BEGIN:VCALENDAR
VERSION:2.0
PRODID:-//ChamberMaster//Event Calendar 2.0//EN
METHOD:PUBLISH
X-PUBLISHED-TTL:P3D
REFRESH-INTERVAL:P3D
CALSCALE:GREGORIAN
BEGIN:VEVENT
DTSTART:20120602T130000Z
DTEND:20120602T050000Z
X-MICROSOFT-CDO-ALLDAYEVENT:FALSE
SUMMARY:Entrance Examination for the Position of Police Officer Recruit
DESCRIPTION:In accordance with local Civil Service Rules and Chapter 143 of the Texas Local Goverment Code\, notice is hereby given that the City of Garland will begin taking applications for the position of Polic Officer Recruit as described below: Date of posting (begin taking applications): April 23\, 2012Application Deadline: 5:00 p.m.\, Friday\, May 18\, 2012 Entrance Examination: Saturday\, June 2\, 2012 at 8:00 a.m. Lakeview Centennial High School\, 3505 Hayman Dr.\, Garland\, Texas. Physical Agility testing for candidates who pass the written exam will immediately follow the written examination -- wear appropriate attire. Confirmation letters will be emailed and mailed to qualified applicants prior to the exam. Police Officer Recruit  Employment Applications are only accepted online. For questions about becoming a Police Officer\, contact the City of Garland Police Dept: 972-487-2498\, or toll free 1-888-670-7932 or visit the website at www.garlandpolice.com For questions about the application\, contact the City of Garland Human Resources Dept: 972-205-2498 For additional information\, including minimum eligibility requirements\, click here.
X-ALT-DESC;FMTTYPE=text/html:<DIV style="FONT-FAMILY: Arial">In accordance with local Civil Service Rules and Chapter 143 of the Texas Local Goverment Code\, notice is hereby given that the City of Garland will begin taking applications for the position of Polic Officer Recruit as described below:</DIV><DIV style="FONT-FAMILY: Arial">&nbsp\;</DIV><DIV style="FONT-FAMILY: Arial">Date of posting (begin taking applications): April 23\, 2012</DIV><DIV style="FONT-FAMILY: Arial">Application Deadline: 5:00 p.m.\, Friday\, May 18\, 2012</DIV><DIV style="FONT-FAMILY: Arial">&nbsp\;</DIV><DIV style="FONT-FAMILY: Arial">Entrance Examination: Saturday\, June 2\, 2012 at 8:00 a.m. Lakeview Centennial High School\, 3505 Hayman Dr.\, Garland\, Texas.</DIV><DIV style="FONT-FAMILY: Arial">&nbsp\;</DIV><DIV style="FONT-FAMILY: Arial">Physical Agility testing for candidates who pass the written exam will immediately follow the written examination -- wear appropriate attire.</DIV><DIV style="FONT-FAMILY: Arial">&nbsp\;</DIV><DIV style="FONT-FAMILY: Arial">Confirmation letters will be emailed and mailed to qualified applicants prior to the exam.</DIV><DIV style="FONT-FAMILY: Arial">&nbsp\;</DIV><DIV style="FONT-FAMILY: Arial">Police Officer Recruit&nbsp\; Employment Applications are only accepted <A dataFld=0:0 href="https://external-garland.icims.com/jobs/2886/job">online</A>.</DIV><DIV style="FONT-FAMILY: Arial">&nbsp\;</DIV><DIV style="FONT-FAMILY: Arial">For questions about becoming a Police Officer\, contact the City of Garland Police Dept: 972-487-2498\, or toll free 1-888-670-7932 or visit the website at <A href="http://www.garlandpolice.com">www.garlandpolice.com</A></DIV><DIV style="FONT-FAMILY: Arial">&nbsp\;</DIV><DIV style="FONT-FAMILY: Arial">For questions about the application\, contact the City of Garland Human Resources Dept: 972-205-2498</DIV><DIV style="FONT-FAMILY: Arial">&nbsp\;</DIV><DIV style="FONT-FAMILY: Arial">For additional information\, including minimum eligibility requirements\, <A dataFld=0:0 href="http://www.garlandtx.gov/gov/hk/hr/pd_notice.asp">click here</A>.</DIV>
LOCATION:Lakeview Centennial High School
UID:e.2096.1035
SEQUENCE:3
DTSTAMP:20260421T233927Z
URL:https://network.garlandchamber.com/events/details/entrance-examination-for-the-position-of-police-officer-recruit-06-02-2012-1035
END:VEVENT

END:VCALENDAR
