BEGIN:VCALENDAR
VERSION:2.0
PRODID:-//ChamberMaster//Event Calendar 2.0//EN
METHOD:PUBLISH
X-PUBLISHED-TTL:P3D
REFRESH-INTERVAL:P3D
CALSCALE:GREGORIAN
BEGIN:VEVENT
DTSTART:20080206T200000Z
DTEND:20080206T060000Z
X-MICROSOFT-CDO-ALLDAYEVENT:FALSE
SUMMARY:Ethan Allen Grand Opening Celebration
DESCRIPTION:
X-ALT-DESC;FMTTYPE=text/html:
LOCATION:Ethan Allen - Firewheel Town Center
UID:e.2096.497
SEQUENCE:3
DTSTAMP:20260425T002613Z
URL:https://network.garlandchamber.com/events/details/ethan-allen-grand-opening-celebration-02-06-2008-497
END:VEVENT

END:VCALENDAR
