BEGIN:VCALENDAR
VERSION:2.0
PRODID:-//ChamberMaster//Event Calendar 2.0//EN
METHOD:PUBLISH
X-PUBLISHED-TTL:P3D
REFRESH-INTERVAL:P3D
CALSCALE:GREGORIAN
BEGIN:VEVENT
DTSTART:20090422T130000Z
DTEND:20090422T220000Z
X-MICROSOFT-CDO-ALLDAYEVENT:FALSE
SUMMARY:Excutive Press Open House
DESCRIPTION:
X-ALT-DESC;FMTTYPE=text/html:
LOCATION:Executive Press
UID:e.2096.663
SEQUENCE:3
DTSTAMP:20260424T051958Z
URL:https://network.garlandchamber.com/events/details/excutive-press-open-house-04-22-2009-663
END:VEVENT

END:VCALENDAR
