BEGIN:VCALENDAR
VERSION:2.0
PRODID:-//ChamberMaster//Event Calendar 2.0//EN
METHOD:PUBLISH
X-PUBLISHED-TTL:P3D
REFRESH-INTERVAL:P3D
CALSCALE:GREGORIAN
BEGIN:VEVENT
DTSTART:20130418T160000Z
DTEND:20130418T170000Z
X-MICROSOFT-CDO-ALLDAYEVENT:FALSE
SUMMARY:Expo Seminar: Stand Out Like a Rock Star!
DESCRIPTION:Stand Out Like a Rock Star!Business Success Lessons from the World of Entertainment This high-energy marketing seminar will take place as part of the 4th Annual Business Expo. Admission is free with an Expo ticket. Speaker: Robin CreasmanRead Robin's Bio Stand Out Like a Rock Star takes an inside look at how the entertainment and music industry uses performance\, marketing and communication strategies to enhance one's position in the marketplace. Robin pulls back the curtain\, reveals a behind-the-scenes look at how it is done\, and shows you new and creative ways to stand out from your competition ... whether you are on stage\, in the board room\, or on a sales call ... so you can get more business\, make more money and be more successful.
X-ALT-DESC;FMTTYPE=text/html:<DIV style="FONT-FAMILY: Arial">Stand Out Like&nbsp\;a Rock Star!</DIV><DIV style="FONT-FAMILY: Arial">Business Success Lessons from the World of Entertainment</DIV><DIV style="FONT-FAMILY: Arial">&nbsp\;</DIV><DIV style="FONT-FAMILY: Arial">This high-energy marketing seminar will take place as part of the 4th Annual Business Expo. Admission is free with an <A dataFld=0:0 href="http://www.garlandchamber.com/images/stories/events/chamber/2013%20Downloadable%20Expo%20Ticket.pdf">Expo ticket</A>.</DIV><DIV style="FONT-FAMILY: Arial">&nbsp\;</DIV><DIV style="FONT-FAMILY: Arial">Speaker: Robin Creasman</DIV><DIV style="FONT-FAMILY: Arial"><A dataFld=0:0 href="http://www.garlandchamber.com/images/stories/events/chamber/_Robin%20Bio%20Prog%20Desc%20%20Intro.pdf">Read Robin's Bio</A></DIV><DIV style="FONT-FAMILY: Arial">&nbsp\;</DIV><DIV style="FONT-FAMILY: Arial">Stand Out Like a Rock Star takes an inside look at how the entertainment and music industry uses performance\, marketing and communication strategies to enhance one's position in the marketplace. Robin pulls back the curtain\, reveals a behind-the-scenes look at how it is done\, and shows you new and creative ways to stand out from your competition ... whether you are on stage\, in the board room\, or on a sales call ... so you can get more business\, make more money and be more successful.</DIV>
LOCATION:Curtis Culwell Center
UID:e.2096.1174
SEQUENCE:3
DTSTAMP:20260421T090515Z
URL:https://network.garlandchamber.com/events/details/expo-seminar-stand-out-like-a-rock-star-04-18-2013-1174
END:VEVENT

END:VCALENDAR
