BEGIN:VCALENDAR
VERSION:2.0
PRODID:-//ChamberMaster//Event Calendar 2.0//EN
METHOD:PUBLISH
X-PUBLISHED-TTL:P3D
REFRESH-INTERVAL:P3D
CALSCALE:GREGORIAN
BEGIN:VEVENT
DTSTART:20130709T123000Z
DTEND:20130709T153000Z
X-MICROSOFT-CDO-ALLDAYEVENT:FALSE
SUMMARY:Export Forum: International Due Diligence & Company Background Checks
DESCRIPTION:Presented by the North Texas District Export Council Can you afford to lose your credibility\, reputation and hard earned dollars? Come and learn the techniques of due diligence to protect your export business and enhance your profit margins. This program will show you why and how to conduct due diligence and background checks on potential international customers and will provide you with critical insights regarding the resources necessary to successfully conduct your due diligence. You will hear from experts in the field who will cite real-world examples and cases. The 1-day training can make a world of difference in your export business and is an event you cannot afford to miss. Registration AGENDA 7:30 to 8 a.m. Check-in\, Networking\, UPS Sponsored breakfast8 to 10 a.m. Panel Discussion (Daniel J. Swart\, Al Dias\, Radi Al-Rashed\, Rhonda Buras)10 to 10:30 a.m. Post Networking Contact Dan Swart for more informationNorth Texas Export Assistance Center\, U.S. Department of Commerce4300 Amon Carter Blvd.\, Suite 114\, Fort Worth\, TX 76155817-684-5355daniel.swart@trade.govwww.exporttexas.com
X-ALT-DESC;FMTTYPE=text/html:<DIV style="FONT-FAMILY: Arial">Presented by the North Texas District Export Council</DIV><DIV style="FONT-FAMILY: Arial">&nbsp\;</DIV><DIV style="FONT-FAMILY: Arial">Can you afford to lose your credibility\, reputation and hard earned dollars? Come and learn the techniques of due diligence to protect your export business and enhance your profit margins.</DIV><DIV style="FONT-FAMILY: Arial">&nbsp\;</DIV><DIV style="FONT-FAMILY: Arial">This program will show you why and how to conduct due diligence and background checks on potential international customers and will provide you with critical insights regarding the resources necessary to successfully conduct your due diligence.</DIV><DIV style="FONT-FAMILY: Arial">&nbsp\;</DIV><DIV style="FONT-FAMILY: Arial">You will hear from experts in the field who will cite real-world examples and cases. The 1-day training can make a world of difference in your export business and is an event you cannot afford to miss.</DIV><DIV style="FONT-FAMILY: Arial">&nbsp\;</DIV><DIV style="FONT-FAMILY: Arial"><A dataFld=0:0 href="http://exporttexas.com/content/export-forum-international-due-diligence-and-company-background-checks?utm_source=July+9th+Export+Forum+International+Due+Diligence+and+Company+Background+Checks&amp\;utm_campaign=Gold+Key+Email+7-31-2012&amp\;utm_medium=email">Registration</A></DIV><DIV style="FONT-FAMILY: Arial">&nbsp\;</DIV><DIV style="FONT-FAMILY: Arial">AGENDA</DIV><DIV style="FONT-FAMILY: Arial">&nbsp\;</DIV><DIV style="FONT-FAMILY: Arial">7:30 to 8 a.m. Check-in\, Networking\, UPS Sponsored breakfast</DIV><DIV style="FONT-FAMILY: Arial">8 to 10 a.m. Panel Discussion (Daniel J. Swart\, Al Dias\, Radi Al-Rashed\, Rhonda Buras)</DIV><DIV style="FONT-FAMILY: Arial">10 to 10:30 a.m. Post Networking</DIV><DIV style="FONT-FAMILY: Arial">&nbsp\;</DIV><DIV style="FONT-FAMILY: Arial">Contact Dan Swart for more information</DIV><DIV style="FONT-FAMILY: Arial">North Texas Export Assistance Center\, U.S. Department of Commerce</DIV><DIV style="FONT-FAMILY: Arial">4300 Amon Carter Blvd.\, Suite 114\, Fort Worth\, TX 76155</DIV><DIV style="FONT-FAMILY: Arial">817-684-5355</DIV><DIV style="FONT-FAMILY: Arial"><A href="mailto:daniel.swart@trade.gov">daniel.swart@trade.gov</A></DIV><DIV style="FONT-FAMILY: Arial"><A href="http://www.exporttexas.com">www.exporttexas.com</A> </DIV>
LOCATION:Richland College Sabine Hall
UID:e.2096.1200
SEQUENCE:3
DTSTAMP:20260421T044939Z
URL:https://network.garlandchamber.com/events/details/export-forum-international-due-diligence-company-background-checks-07-09-2013-1200
END:VEVENT

END:VCALENDAR
