BEGIN:VCALENDAR
VERSION:2.0
PRODID:-//ChamberMaster//Event Calendar 2.0//EN
METHOD:PUBLISH
X-PUBLISHED-TTL:P3D
REFRESH-INTERVAL:P3D
CALSCALE:GREGORIAN
BEGIN:VEVENT
DTSTART:20061117T150000Z
DTEND:20061117T180000Z
X-MICROSOFT-CDO-ALLDAYEVENT:FALSE
SUMMARY:Fall Workshop: Effective Discipline
DESCRIPTION:
X-ALT-DESC;FMTTYPE=text/html:
LOCATION:Garland Chamber of Commerce
UID:e.2096.337
SEQUENCE:3
DTSTAMP:20260425T223634Z
URL:https://network.garlandchamber.com/events/details/fall-workshop-effective-discipline-11-17-2006-337
END:VEVENT

END:VCALENDAR
