BEGIN:VCALENDAR
VERSION:2.0
PRODID:-//ChamberMaster//Event Calendar 2.0//EN
METHOD:PUBLISH
X-PUBLISHED-TTL:P3D
REFRESH-INTERVAL:P3D
CALSCALE:GREGORIAN
BEGIN:VEVENT
DTSTART:20090712T210000Z
DTEND:20090712T050000Z
X-MICROSOFT-CDO-ALLDAYEVENT:FALSE
SUMMARY:Family Fun Activities & A Movie at Bass Pro
DESCRIPTION:
X-ALT-DESC;FMTTYPE=text/html:
LOCATION:Bass Pro Shop - Garland
UID:e.2096.597
SEQUENCE:3
DTSTAMP:20260424T023622Z
URL:https://network.garlandchamber.com/events/details/family-fun-activities-a-movie-at-bass-pro-07-12-2009-597
END:VEVENT

END:VCALENDAR
