BEGIN:VCALENDAR
VERSION:2.0
PRODID:-//ChamberMaster//Event Calendar 2.0//EN
METHOD:PUBLISH
X-PUBLISHED-TTL:P3D
REFRESH-INTERVAL:P3D
CALSCALE:GREGORIAN
BEGIN:VEVENT
DTSTART:20120630T150000Z
DTEND:20120630T180000Z
X-MICROSOFT-CDO-ALLDAYEVENT:FALSE
SUMMARY:Family Fun on the Square
DESCRIPTION:Bring the whole family to Downtown Garland for a day of shopping\, dining\, music\, games and more! C B Luce & The Garland Opry will perform country rock music on the Downtown Square\, while the kids enjoy bounce houses\, games\, face painting and prizes. Several antique and furniture shops as well as a variety of great restaurants are within walking distance. There will be a free showing of "Some Like It Hot\," starring Marilyn Monroe\, Jack Lemmon and Tony Curtis\, at 10:00 a.m. at the Plaza Theatre\, located on the corner of State Street and 6th Street across from the Square. Doors open at 9:30 a.m. and refreshments will be sold. Everything is free so don't miss out on the fun! For additional information\, call (972) 205-2749
X-ALT-DESC;FMTTYPE=text/html:<DIV style="FONT-FAMILY: Arial">Bring the whole family to Downtown Garland for a day of shopping\, dining\, music\, games and more! C B Luce &amp\; The Garland Opry will perform country rock music on the Downtown Square\, while the kids enjoy bounce houses\, games\, face painting and prizes. Several antique and furniture shops as well as a variety of great restaurants are within walking distance.</DIV><DIV style="FONT-FAMILY: Arial">&nbsp\;</DIV><DIV style="FONT-FAMILY: Arial">There will be a free showing of "Some Like It Hot\," starring Marilyn Monroe\, Jack Lemmon and Tony Curtis\, at 10:00 a.m. at the Plaza Theatre\, located on the corner of State Street and 6th Street across from the Square. Doors open at 9:30 a.m. and refreshments will be sold.</DIV><DIV style="FONT-FAMILY: Arial">&nbsp\;</DIV><DIV style="FONT-FAMILY: Arial">Everything is free so don't miss out on the fun!</DIV><DIV style="FONT-FAMILY: Arial">&nbsp\;</DIV><DIV style="FONT-FAMILY: Arial">For additional information\, call (972) 205-2749</DIV>
LOCATION:Downtown Garland
UID:e.2096.1056
SEQUENCE:3
DTSTAMP:20260421T233631Z
URL:https://network.garlandchamber.com/events/details/family-fun-on-the-square-06-30-2012-1056
END:VEVENT

END:VCALENDAR
