BEGIN:VCALENDAR
VERSION:2.0
PRODID:-//ChamberMaster//Event Calendar 2.0//EN
METHOD:PUBLISH
X-PUBLISHED-TTL:P3D
REFRESH-INTERVAL:P3D
CALSCALE:GREGORIAN
BEGIN:VEVENT
DTSTART:20081001T130000Z
DTEND:20081001T180000Z
X-MICROSOFT-CDO-ALLDAYEVENT:FALSE
SUMMARY:Family Violence Prevention Business Call to Action
DESCRIPTION:
X-ALT-DESC;FMTTYPE=text/html:
LOCATION:Special Events Center
UID:e.2096.542
SEQUENCE:3
DTSTAMP:20260424T132442Z
URL:https://network.garlandchamber.com/events/details/family-violence-prevention-business-call-to-action-10-01-2008-542
END:VEVENT

END:VCALENDAR
