BEGIN:VCALENDAR
VERSION:2.0
PRODID:-//ChamberMaster//Event Calendar 2.0//EN
METHOD:PUBLISH
X-PUBLISHED-TTL:P3D
REFRESH-INTERVAL:P3D
CALSCALE:GREGORIAN
BEGIN:VEVENT
DTSTART:20130413T140000Z
DTEND:20130608T180000Z
X-MICROSOFT-CDO-ALLDAYEVENT:FALSE
SUMMARY:FastTrac New Venture Training Program
DESCRIPTION:The New Venture course is an 8-session intensive training program. It focuses on teaching the art of better business practices. It will provide tools to complete a comprehensive business plan and an overview of financial tools to guide business decisions and activities. $349.00 per person (regularly $450 or more)Enrollment starts March 1 and ends April 10 at 4:30 p.m. Fees may be paid in person in the Business Office at the Bill J. Priest Campus of El Centro College\, Monday through Thursday\, 10 a.m. to 2 p.m.\, or payments may be made at your convenience using the online payment option at http://newventurefasttrac2013.eventbrite.com/  Classes are held at 1402 Corinth St. Suite 1520\, Dallas\, TX 75215 on Saturdays from 9 a.m. to 1 p.m.April 13\, 20\, 27\, May 4\, 11\, 18 and June 1\, 8 For more information\, contact Mary at 214-860-5859 or Dorie at 214-860-5848
X-ALT-DESC;FMTTYPE=text/html:<DIV style="FONT-FAMILY: Arial">The New Venture course is an 8-session intensive training program. It focuses on teaching the art of better business practices. It will provide tools to complete a comprehensive business plan and an overview of financial tools to guide business decisions and activities.</DIV><DIV style="FONT-FAMILY: Arial">&nbsp\;</DIV><DIV style="FONT-FAMILY: Arial">$349.00 per person (regularly $450 or more)</DIV><DIV style="FONT-FAMILY: Arial">Enrollment starts March 1 and ends April 10 at 4:30 p.m.</DIV><DIV style="FONT-FAMILY: Arial">&nbsp\;</DIV><DIV style="FONT-FAMILY: Arial">Fees may be paid in person in the Business Office at the Bill J. Priest Campus of El Centro College\, Monday through Thursday\, 10 a.m. to 2 p.m.\, or payments may be made at your convenience using the online payment option at <A href="http://newventurefasttrac2013.eventbrite.com/">http://newventurefasttrac2013.eventbrite.com/</A> </DIV><DIV style="FONT-FAMILY: Arial">&nbsp\;</DIV><DIV style="FONT-FAMILY: Arial">Classes are held at 1402 Corinth St. Suite 1520\, Dallas\, TX 75215 on Saturdays from 9 a.m. to 1 p.m.</DIV><DIV style="FONT-FAMILY: Arial">April 13\, 20\, 27\, May 4\, 11\, 18 and June 1\, 8</DIV><DIV style="FONT-FAMILY: Arial">&nbsp\;</DIV><DIV style="FONT-FAMILY: Arial">For more information\, contact Mary at 214-860-5859 or Dorie at 214-860-5848</DIV>
LOCATION:Dallas Small Business Development Center
UID:e.2096.1144
SEQUENCE:3
DTSTAMP:20260421T061252Z
URL:https://network.garlandchamber.com/events/details/fasttrac-new-venture-training-program-04-13-2013-1144
END:VEVENT

END:VCALENDAR
