BEGIN:VCALENDAR
VERSION:2.0
PRODID:-//ChamberMaster//Event Calendar 2.0//EN
METHOD:PUBLISH
X-PUBLISHED-TTL:P3D
REFRESH-INTERVAL:P3D
CALSCALE:GREGORIAN
BEGIN:VEVENT
DTSTART:20070214T134500Z
DTEND:20070214T150000Z
X-MICROSOFT-CDO-ALLDAYEVENT:FALSE
SUMMARY:February Business Skills Breakfast
DESCRIPTION:Speaker: Bill Dunn\, President – Dunn & Rhodes\, CPA Topic: Taxes: Your Questions Answered   It’s that time again…TAX SEASON! Tax season can be one of the most stressful times of the year. This year you can reduce the stress\, by being prepared. Join us for our February Business Skills Breakfast\, where you will have an opportunity to ask those pressing tax questions.  Find out how you can save money and what items you can write off.  If you are a business owner you can ask questions about the new business taxes and find how they will affect your business. Whether you have questions about individual/ business taxes…we have answers.  Wednesday\, February 14th G.I.S.D. Special Events Center4999 Naaman Forest Blvd. – Garland\, 750407:30 a.m. – 9:00 a.m. Registration will be held from 7:30 to 8:00a.m.The seminar will begin promptly at 8:00 a.m.Bring business cards and marketing materials
X-ALT-DESC;FMTTYPE=text/html:<P class=MsoNormal style="MARGIN: 0in 0in 0pt\; TEXT-ALIGN: center" align=center><FONT size=4><B style="mso-bidi-font-weight: normal"><SPAN style="FONT-FAMILY: 'Arial Narrow'">Speaker: Bill Dunn\, President – Dunn &amp\; Rhodes\, CPA</SPAN></B><B style="mso-bidi-font-weight: normal"><SPAN style="FONT-FAMILY: 'Arial Narrow'"><?xml:namespace prefix = o ns = "urn:schemas-microsoft-com:office:office" /><o:p>&nbsp\;</o:p></SPAN></B></FONT></P><P class=MsoNormal style="MARGIN: 0in 0in 0pt\; TEXT-ALIGN: center" align=center><B style="mso-bidi-font-weight: normal"><SPAN style="FONT-FAMILY: 'Arial Narrow'"><FONT size=4>Topic: Taxes: Your Questions Answered <SPAN style="mso-spacerun: yes">&nbsp\;</SPAN><o:p></o:p></FONT></SPAN></B></P><P class=MsoNormal style="MARGIN: 0in 0in 0pt\; TEXT-ALIGN: center" align=center><SPAN style="FONT-FAMILY: 'Arial Narrow'"><o:p>&nbsp\;</o:p></SPAN></P><P class=MsoNormal style="MARGIN: 0in 0in 0pt"><SPAN style="FONT-FAMILY: 'Arial Narrow'"><FONT size=4>It’s that time again…TAX SEASON! Tax season can be one of the most stressful times of the year. This year you can reduce the stress\, by being prepared. Join us for our February Business Skills Breakfast\, where you will have an opportunity to ask those pressing tax questions. <SPAN style="mso-spacerun: yes">&nbsp\;</SPAN>Find out how you can save money and what items you can write off.<SPAN style="mso-spacerun: yes">&nbsp\; </SPAN>If you are a business owner you can ask questions about the new business taxes and find how they will affect your business. Whether you have questions about individual/ business taxes…we have answers. <o:p></o:p></FONT></SPAN></P><P class=MsoNormal style="MARGIN: 0in 0in 0pt"><SPAN style="FONT-SIZE: 8pt\; FONT-FAMILY: 'Arial Narrow'"><o:p>&nbsp\;</o:p></SPAN></P><P class=MsoNormal style="MARGIN: 0in 0in 0pt\; TEXT-ALIGN: center" align=center><B style="mso-bidi-font-weight: normal"><SPAN style="FONT-FAMILY: 'Arial Narrow'"><FONT size=4>Wednesday\, February 14<SUP>th</SUP> <o:p></o:p></FONT></SPAN></B></P><P class=MsoNormal style="MARGIN: 0in 0in 0pt\; TEXT-ALIGN: center" align=center><FONT size=4><?xml:namespace prefix = st1 ns = "urn:schemas-microsoft-com:office:smarttags" /><st1:place><st1:PlaceName><B style="mso-bidi-font-weight: normal"><SPAN style="FONT-FAMILY: 'Arial Narrow'">G.I.S.D.</SPAN></B></st1:PlaceName><B style="mso-bidi-font-weight: normal"><SPAN style="FONT-FAMILY: 'Arial Narrow'"> </SPAN></B><st1:PlaceName><B style="mso-bidi-font-weight: normal"><SPAN style="FONT-FAMILY: 'Arial Narrow'">Special</SPAN></B></st1:PlaceName><B style="mso-bidi-font-weight: normal"><SPAN style="FONT-FAMILY: 'Arial Narrow'"> </SPAN></B><st1:PlaceName><B style="mso-bidi-font-weight: normal"><SPAN style="FONT-FAMILY: 'Arial Narrow'">Events</SPAN></B></st1:PlaceName><B style="mso-bidi-font-weight: normal"><SPAN style="FONT-FAMILY: 'Arial Narrow'"> </SPAN></B><st1:PlaceType><B style="mso-bidi-font-weight: normal"><SPAN style="FONT-FAMILY: 'Arial Narrow'">Center</SPAN></B></st1:PlaceType></st1:place><B style="mso-bidi-font-weight: normal"><SPAN style="FONT-FAMILY: 'Arial Narrow'"><o:p></o:p></SPAN></B></FONT></P><P class=MsoNormal style="MARGIN: 0in 0in 0pt\; TEXT-ALIGN: center" align=center><FONT size=4><st1:Street><st1:address><SPAN style="FONT-FAMILY: 'Arial Narrow'">4999 Naaman Forest Blvd.</SPAN></st1:address></st1:Street><SPAN style="FONT-FAMILY: 'Arial Narrow'"> – </SPAN><st1:City><st1:place><SPAN style="FONT-FAMILY: 'Arial Narrow'">Garland</SPAN></st1:place></st1:City><SPAN style="FONT-FAMILY: 'Arial Narrow'">\, 75040<o:p></o:p></SPAN></FONT></P><P class=MsoNormal style="MARGIN: 0in 0in 0pt\; TEXT-ALIGN: center" align=center><FONT size=4><st1:time Minute="30" Hour="7"><SPAN style="FONT-FAMILY: 'Arial Narrow'">7:30 a.m. – 9:00 a.m.</SPAN></st1:time><SPAN style="FONT-FAMILY: 'Arial Narrow'"><o:p></o:p></SPAN></FONT></P><P class=MsoNormal style="MARGIN: 0in 0in 0pt\; TEXT-ALIGN: center" align=center><SPAN style="FONT-SIZE: 5pt\; FONT-FAMILY: 'Arial Narrow'"><o:p><FONT size=4>&nbsp\;</FONT></o:p></SPAN></P><P class=MsoNormal style="MARGIN: 0in 0in 0pt\; TEXT-ALIGN: center" align=center><FONT size=4><SPAN style="COLOR: green\; FONT-FAMILY: 'Arial Narrow'">Registration will be held from </SPAN><st1:time Minute="30" Hour="7"><SPAN style="COLOR: green\; FONT-FAMILY: 'Arial Narrow'">7:30</SPAN></st1:time><SPAN style="COLOR: green\; FONT-FAMILY: 'Arial Narrow'"> to </SPAN><st1:time Minute="0" Hour="8"><SPAN style="COLOR: green\; FONT-FAMILY: 'Arial Narrow'">8:00a.m.</SPAN></st1:time><SPAN style="COLOR: green\; FONT-FAMILY: 'Arial Narrow'"><o:p></o:p></SPAN></FONT></P><P class=MsoNormal style="MARGIN: 0in 0in 0pt\; TEXT-ALIGN: center" align=center><FONT size=4><SPAN style="COLOR: green\; FONT-FAMILY: 'Arial Narrow'">The seminar will begin promptly at </SPAN><st1:time Minute="0" Hour="8"><SPAN style="COLOR: green\; FONT-FAMILY: 'Arial Narrow'">8:00 a.m.</SPAN></st1:time><SPAN style="COLOR: green\; FONT-FAMILY: 'Arial Narrow'"><o:p></o:p></SPAN></FONT></P><P align=center><FONT size=4>Bring business cards and marketing materials</FONT></P>
LOCATION:G.I.S.D. Special Events Center
UID:e.2096.344
SEQUENCE:3
DTSTAMP:20260425T174755Z
URL:https://network.garlandchamber.com/events/details/february-business-skills-breakfast-02-14-2007-344
END:VEVENT

END:VCALENDAR
