BEGIN:VCALENDAR
VERSION:2.0
PRODID:-//ChamberMaster//Event Calendar 2.0//EN
METHOD:PUBLISH
X-PUBLISHED-TTL:P3D
REFRESH-INTERVAL:P3D
CALSCALE:GREGORIAN
BEGIN:VEVENT
DTSTART:20120314T050000Z
DTEND:20120328T050000Z
X-MICROSOFT-CDO-ALLDAYEVENT:FALSE
SUMMARY:Feeding America
DESCRIPTION:Sam's Club is teaming up with key suppliers March 14 through March 28 to help Feeding America secure up to 1 million meals for local food banks. Your trip to Sam's Club can help reach this goal. See flyers below for additional information or visit www.feedingamerica.org to find out how you can fight hunder in your community and across the country.
X-ALT-DESC;FMTTYPE=text/html:<DIV style="FONT-FAMILY: Arial"><A dataFld=0:0 href="http://www3.samsclub.com/meals/events?iid=CRSJ1468">Sam's Club</A> is teaming up with key suppliers March 14 through March 28 to help Feeding America secure up to 1 million meals for local food banks. Your trip to Sam's Club can help reach this goal. See flyers below for additional information or visit <A href="http://www.feedingamerica.org">www.feedingamerica.org</A>&nbsp\;to find out how you can fight hunder in your community and across the country. </DIV>
LOCATION:Sam's Club #8242
UID:e.2096.1010
SEQUENCE:3
DTSTAMP:20260422T034640Z
URL:https://network.garlandchamber.com/events/details/feeding-america-03-14-2012-1010
END:VEVENT

END:VCALENDAR
