BEGIN:VCALENDAR
VERSION:2.0
PRODID:-//ChamberMaster//Event Calendar 2.0//EN
METHOD:PUBLISH
X-PUBLISHED-TTL:P3D
REFRESH-INTERVAL:P3D
CALSCALE:GREGORIAN
BEGIN:VEVENT
DTSTART:20120428T050000Z
DTEND:20120428T050000Z
X-MICROSOFT-CDO-ALLDAYEVENT:FALSE
SUMMARY:Fire & Safety Event for City Employees and Families
DESCRIPTION:On April 28 and 29\, 2012 Verizon Wireless will host a Fire and Safety event for City of Garland employees and families. See flyers below for additional information. Fire and Safety EventTicket Giveaway: Imagination Movers
X-ALT-DESC;FMTTYPE=text/html:<DIV style="FONT-FAMILY: Arial">On April 28 and 29\, 2012 Verizon Wireless will host a Fire and Safety event for City of Garland employees and families. See flyers below for additional information.</DIV><DIV style="FONT-FAMILY: Arial">&nbsp\;</DIV><DIV style="FONT-FAMILY: Arial"><A dataFld=0:0 href="http://www.garlandchamber.com/images/stories/Garland_v2.pdf">Fire and Safety Event</A></DIV><DIV style="FONT-FAMILY: Arial"><A dataFld=0:0 href="http://www.garlandchamber.com/images/stories/VZ%20Theatre%20Flyer_Imagination_Movers.pdf">Ticket Giveaway: Imagination Movers</A></DIV>
LOCATION:Verizon Wireless
UID:e.2096.1025
SEQUENCE:3
DTSTAMP:20260422T023830Z
URL:https://network.garlandchamber.com/events/details/fire-safety-event-for-city-employees-and-families-04-28-2012-1025
END:VEVENT

END:VCALENDAR
