BEGIN:VCALENDAR
VERSION:2.0
PRODID:-//ChamberMaster//Event Calendar 2.0//EN
METHOD:PUBLISH
X-PUBLISHED-TTL:P3D
REFRESH-INTERVAL:P3D
CALSCALE:GREGORIAN
BEGIN:VEVENT
DTSTART:20090207T010000Z
DTEND:20090206T060000Z
X-MICROSOFT-CDO-ALLDAYEVENT:FALSE
SUMMARY:Fireproof Movie - FREE Showing
DESCRIPTION:
X-ALT-DESC;FMTTYPE=text/html:
LOCATION:Saturn Road Church of Christ
UID:e.2096.613
SEQUENCE:3
DTSTAMP:20260424T075932Z
URL:https://network.garlandchamber.com/events/details/fireproof-movie-free-showing-02-06-2009-613
END:VEVENT

END:VCALENDAR
