BEGIN:VCALENDAR
VERSION:2.0
PRODID:-//ChamberMaster//Event Calendar 2.0//EN
METHOD:PUBLISH
X-PUBLISHED-TTL:P3D
REFRESH-INTERVAL:P3D
CALSCALE:GREGORIAN
BEGIN:VEVENT
DTSTART:20080824T190000Z
DTEND:20080824T050000Z
X-MICROSOFT-CDO-ALLDAYEVENT:FALSE
SUMMARY:First Annual Pie Eatting Contest
DESCRIPTION:
X-ALT-DESC;FMTTYPE=text/html:
LOCATION:4280 Lavon Dr.\, Suite 250
UID:e.2096.571
SEQUENCE:3
DTSTAMP:20260424T160649Z
URL:https://network.garlandchamber.com/events/details/first-annual-pie-eatting-contest-08-24-2008-571
END:VEVENT

END:VCALENDAR
