BEGIN:VCALENDAR
VERSION:2.0
PRODID:-//ChamberMaster//Event Calendar 2.0//EN
METHOD:PUBLISH
X-PUBLISHED-TTL:P3D
REFRESH-INTERVAL:P3D
CALSCALE:GREGORIAN
BEGIN:VEVENT
DTSTART:20120229T170000Z
DTEND:20120229T190000Z
X-MICROSOFT-CDO-ALLDAYEVENT:FALSE
SUMMARY:Five Strategies to Keep Your Best Employees
DESCRIPTION:Partners for           People     Management™ FIVE STRAGEGIES TO KEEP YOUR BEST EMPLOYEESKen Alexander of Partners for People Management has been through many business cycles in his 30+ years of dealing with "people issues" for a variety of companies large and small. However\, Ken reminds us that one thing never changes\, "people make the company" and keeping those people is paramount.Join Ken for this informative 2 hour session and discover five proven strategies to keep your best employees. We don't know now when the economy will begin its recovery\, but we must do everything we can to insure our best employees don't leave.  Garland Chamber of Commerce OfficesWednesday February 2911:00 AM to 1:00 PMBox lunch included$47 per personEXTRA DAY - EXTRA BONUS2012 INCLUDES AN EXTRA DAY DEVOTE PART OF IT TO YOUR EMPLOYEES!
X-ALT-DESC;FMTTYPE=text/html:<SPAN style="LINE-HEIGHT: 115%\; FONT-FAMILY: 'Times New Roman'\,'serif'\; FONT-SIZE: 14pt"><P style="MARGIN: 0in 0in 0pt" class=MsoNormal><SPAN><STRONG><FONT color=#629cdd size=4>Partners for</FONT></STRONG></SPAN></P><P style="MARGIN: 0in 0in 0pt" class=MsoNormal><SPAN><STRONG><FONT color=#629cdd size=4>&nbsp\;&nbsp\;&nbsp\;&nbsp\;&nbsp\;&nbsp\; &nbsp\;&nbsp\;&nbsp\; People</FONT></STRONG></SPAN></P><P style="MARGIN: 0in 0in 0pt" class=MsoNormal><SPAN><FONT color=#629cdd><FONT size=4><STRONG>&nbsp\;&nbsp\;&nbsp\;&nbsp\; Management</STRONG><SPAN style="FONT-FAMILY: 'Times New Roman'\,'serif'\; COLOR: #548dd4\; FONT-SIZE: 18pt\; mso-fareast-font-family: Calibri\; mso-fareast-theme-font: minor-latin\; mso-ansi-language: EN-US\; mso-fareast-language: EN-US\; mso-bidi-language: AR-SA">™</SPAN></FONT></FONT></SPAN></P><P style="TEXT-ALIGN: center\; MARGIN: 0in 0in 10pt" class=MsoNormal align=center></SPAN>&nbsp\;</P><P style="TEXT-ALIGN: center\; MARGIN: 0in 0in 10pt" class=MsoNormal align=center><B style="mso-bidi-font-weight: normal"><U><SPAN style="LINE-HEIGHT: 115%\; FONT-FAMILY: 'Times New Roman'\,'serif'\; FONT-SIZE: 14pt"><FONT size=2>FIVE STRAGEGIES TO KEEP YOUR BEST EMPLOYEES<?xml:namespace prefix = o ns = "urn:schemas-microsoft-com:office:office" /><o:p></o:p></FONT></SPAN></U></B></P><P style="TEXT-ALIGN: center\; MARGIN: 0in 0in 10pt" class=MsoNormal align=center><B style="mso-bidi-font-weight: normal"><U><SPAN style="LINE-HEIGHT: 115%\; FONT-FAMILY: 'Times New Roman'\,'serif'\; FONT-SIZE: 14pt"><o:p><SPAN style="TEXT-DECORATION: none"><FONT size=2></FONT></SPAN></o:p></SPAN></U></B></P><P style="MARGIN: 0in 0in 10pt" class=MsoNormal><SPAN style="LINE-HEIGHT: 115%\; FONT-FAMILY: 'Times New Roman'\,'serif'\; FONT-SIZE: 14pt"><FONT size=2>Ken Alexander of Partners for People Management has been through many business cycles in his 30+ years of dealing with "people issues" for a variety of companies large and small. However\, Ken reminds us that one thing never changes\, "people make the company" and keeping those people is paramount.<o:p></o:p></FONT></SPAN></P><P style="MARGIN: 0in 0in 10pt" class=MsoNormal><SPAN style="LINE-HEIGHT: 115%\; FONT-FAMILY: 'Times New Roman'\,'serif'\; FONT-SIZE: 14pt"><o:p><FONT size=2></FONT></o:p></SPAN></P><P style="MARGIN: 0in 0in 10pt" class=MsoNormal><SPAN style="LINE-HEIGHT: 115%\; FONT-FAMILY: 'Times New Roman'\,'serif'\; FONT-SIZE: 14pt"><FONT size=2>Join Ken for this informative 2 hour session and discover five proven strategies to keep your best employees. We don't know now when the economy will begin its recovery\, but we must do everything we can to insure our best employees don't leave. <o:p></o:p></FONT></SPAN></P><P style="MARGIN: 0in 0in 10pt" class=MsoNormal><SPAN style="LINE-HEIGHT: 115%\; FONT-FAMILY: 'Times New Roman'\,'serif'\; FONT-SIZE: 14pt"><o:p><FONT size=2>&nbsp\;</FONT></o:p></SPAN></P><P style="TEXT-ALIGN: center\; MARGIN: 0in 0in 10pt" class=MsoNormal align=center><SPAN style="LINE-HEIGHT: 115%\; FONT-FAMILY: 'Times New Roman'\,'serif'\; FONT-SIZE: 14pt"><FONT size=2>Garland Chamber of Commerce Offices<o:p></o:p></FONT></SPAN></P><P style="TEXT-ALIGN: center\; MARGIN: 0in 0in 10pt" class=MsoNormal align=center><SPAN style="LINE-HEIGHT: 115%\; FONT-FAMILY: 'Times New Roman'\,'serif'\; FONT-SIZE: 14pt"><FONT size=2>Wednesday February 29<o:p></o:p></FONT></SPAN></P><P style="TEXT-ALIGN: center\; MARGIN: 0in 0in 10pt" class=MsoNormal align=center><SPAN style="LINE-HEIGHT: 115%\; FONT-FAMILY: 'Times New Roman'\,'serif'\; FONT-SIZE: 14pt"><FONT size=2>11:00 AM to 1:00 PM<o:p></o:p></FONT></SPAN></P><P style="TEXT-ALIGN: center\; MARGIN: 0in 0in 10pt" class=MsoNormal align=center><SPAN style="LINE-HEIGHT: 115%\; FONT-FAMILY: 'Times New Roman'\,'serif'\; FONT-SIZE: 14pt"><FONT size=2>Box lunch included<o:p></o:p></FONT></SPAN></P><P style="TEXT-ALIGN: center\; MARGIN: 0in 0in 10pt" class=MsoNormal align=center><SPAN style="LINE-HEIGHT: 115%\; FONT-FAMILY: 'Times New Roman'\,'serif'\; FONT-SIZE: 14pt"><FONT size=2>$47 per person<o:p></o:p></FONT></SPAN></P><P style="TEXT-ALIGN: center\; MARGIN: 0in 0in 10pt" class=MsoNormal align=center><B style="mso-bidi-font-weight: normal"><U><SPAN style="LINE-HEIGHT: 115%\; FONT-FAMILY: 'Times New Roman'\,'serif'\; FONT-SIZE: 14pt"><FONT size=2>EXTRA DAY&nbsp\;- EXTRA BONUS<o:p></o:p></FONT></SPAN></U></B></P><P style="TEXT-ALIGN: center\; MARGIN: 0in 0in 10pt" class=MsoNormal align=center><B style="mso-bidi-font-weight: normal"><U><SPAN style="LINE-HEIGHT: 115%\; FONT-FAMILY: 'Times New Roman'\,'serif'\; FONT-SIZE: 14pt"><FONT size=2>2012 INCLUDES AN EXTRA DAY<o:p></o:p></FONT></SPAN></U></B></P><P style="TEXT-ALIGN: center\; MARGIN: 0in 0in 10pt" class=MsoNormal align=center><B style="mso-bidi-font-weight: normal"><U><SPAN style="LINE-HEIGHT: 115%\; FONT-FAMILY: 'Times New Roman'\,'serif'\; FONT-SIZE: 14pt"><FONT size=2><SPAN style="mso-spacerun: yes">&nbsp\;</SPAN>DEVOTE PART OF IT TO YOUR EMPLOYEES!<o:p></o:p></FONT></SPAN></U></B></P><P><FONT size=2></FONT>&nbsp\;</P>
LOCATION:Garland Chamber of Commerce
UID:e.2096.998
SEQUENCE:3
DTSTAMP:20260422T064744Z
URL:https://network.garlandchamber.com/events/details/five-strategies-to-keep-your-best-employees-02-29-2012-998
END:VEVENT

END:VCALENDAR
