BEGIN:VCALENDAR
VERSION:2.0
PRODID:-//ChamberMaster//Event Calendar 2.0//EN
METHOD:PUBLISH
X-PUBLISHED-TTL:P3D
REFRESH-INTERVAL:P3D
CALSCALE:GREGORIAN
BEGIN:VEVENT
DTSTART:20080802T210000Z
DTEND:20080802T230000Z
X-MICROSOFT-CDO-ALLDAYEVENT:FALSE
SUMMARY:Focused Eye Care Grand Opening
DESCRIPTION:
X-ALT-DESC;FMTTYPE=text/html:
LOCATION:Focused Eye Care
UID:e.2096.562
SEQUENCE:3
DTSTAMP:20260424T161214Z
URL:https://network.garlandchamber.com/events/details/focused-eye-care-grand-opening-08-02-2008-562
END:VEVENT

END:VCALENDAR
