BEGIN:VCALENDAR
VERSION:2.0
PRODID:-//ChamberMaster//Event Calendar 2.0//EN
METHOD:PUBLISH
X-PUBLISHED-TTL:P3D
REFRESH-INTERVAL:P3D
CALSCALE:GREGORIAN
BEGIN:VEVENT
DTSTART:20120804T140000Z
DTEND:20120804T170000Z
X-MICROSOFT-CDO-ALLDAYEVENT:FALSE
SUMMARY:Fourth Annual Senior Awareness Day
DESCRIPTION:Representative Button\, in partnership with the City of Garland\, is hosting the Fourth Annual Senior Awareness Day on Saturday\, August 4\, 2012 from 9 a.m. to noon at the Atrium at the Granville Arts Center.  The free-of-charge event will host a variety of exhibitor boots for Seniors to browse as well as entertainment and door prize drawings throughout the event.  See Event Flyer for Additional Information
X-ALT-DESC;FMTTYPE=text/html:<DIV style="FONT-FAMILY: Arial">Representative Button\, in partnership with the City of Garland\, is hosting the Fourth Annual Senior Awareness Day on Saturday\, August 4\, 2012 from 9 a.m. to noon at the Atrium at the Granville Arts Center. </DIV><DIV style="FONT-FAMILY: Arial">&nbsp\;</DIV><DIV style="FONT-FAMILY: Arial">The free-of-charge event will host a variety of exhibitor boots for Seniors to browse as well as entertainment and door prize drawings throughout the event. </DIV><DIV style="FONT-FAMILY: Arial">&nbsp\;</DIV><DIV style="FONT-FAMILY: Arial"><A dataFld=0:0 href="http://www.garlandchamber.com/images/stories/chamber/Member%20Promotions/Senior%20Day%20Approved%20Flier%202012%20English.pdf">See Event Flyer for Additional Information</A></DIV>
LOCATION:The Atrium at the Granville Arts Center
UID:e.2096.1058
SEQUENCE:3
DTSTAMP:20260421T204450Z
URL:https://network.garlandchamber.com/events/details/fourth-annual-senior-awareness-day-08-04-2012-1058
END:VEVENT

END:VCALENDAR
