BEGIN:VCALENDAR
VERSION:2.0
PRODID:-//ChamberMaster//Event Calendar 2.0//EN
METHOD:PUBLISH
X-PUBLISHED-TTL:P3D
REFRESH-INTERVAL:P3D
CALSCALE:GREGORIAN
BEGIN:VEVENT
DTSTART:20080919T200000Z
DTEND:20080919T050000Z
X-MICROSOFT-CDO-ALLDAYEVENT:FALSE
SUMMARY:Franklin Business Services Ribbon Cutting Ceremony
DESCRIPTION:
X-ALT-DESC;FMTTYPE=text/html:
LOCATION:Franklin Business Services
UID:e.2096.579
SEQUENCE:3
DTSTAMP:20260424T144559Z
URL:https://network.garlandchamber.com/events/details/franklin-business-services-ribbon-cutting-ceremony-09-19-2008-579
END:VEVENT

END:VCALENDAR
