BEGIN:VCALENDAR
VERSION:2.0
PRODID:-//ChamberMaster//Event Calendar 2.0//EN
METHOD:PUBLISH
X-PUBLISHED-TTL:P3D
REFRESH-INTERVAL:P3D
CALSCALE:GREGORIAN
BEGIN:VEVENT
DTSTART:20110610T200000Z
DTEND:20110611T010000Z
X-MICROSOFT-CDO-ALLDAYEVENT:FALSE
SUMMARY:FREE Foreclosure Prevention Seminar
DESCRIPTION:SAVE THE DATE: Sam Johnson announces foreclosure prevention workshop on Friday\, June 10thWashington\, May 23rd - Today U.S. Congressman Sam Johnson (3rd Dist.-Texas) invited constituents to attend a free foreclosure prevention workshop in Dallas. The event takes place on Friday\, June 10th from 3 p.m. to 8 p.m. in Dallas at the Texas Agrilife Research and Extension Center located at 17360 Coit Road. The DFW Home Ownership Preservation Enterprise (DFW HOPE Partnership) will host the free foreclosure prevention seminar. Housing experts and credit counselors will join Johnson at the informative session. This is a come-and-go event for the purpose of allowing people to sit down with qualified counselors for one-on-one discussions. This event is free and open to the public and the press. “If you are in a situation where you are facing foreclosure or having difficulty making your mortgage payment\, I encourage you attend this event\,” said Johnson. Johnson represents portions of Dallas and Collin Counties. To learn more about this event\, contact the Congressman’s office in Richardson at 972-470-0892. Friday\, June 103 p.m. to 8 p.m.FREE foreclosure prevention seminarU.S. Congressman Sam JohnsonThe Texas Agrilife Research and Extension Center17360 Coit Road - Dallas\, TX
X-ALT-DESC;FMTTYPE=text/html:<DIV><P style="MARGIN: 0in 0in 12pt\; mso-line-height-alt: 9.75pt" class=MsoNormal><B><SPAN style="FONT-FAMILY: 'Arial'\,'sans-serif'\; COLOR: #000033\; FONT-SIZE: 12pt">SAVE THE DATE: </SPAN></B></P><P style="MARGIN: 0in 0in 12pt\; mso-line-height-alt: 9.75pt" class=MsoNormal><B><SPAN style="FONT-FAMILY: 'Arial'\,'sans-serif'\; COLOR: #000033\; FONT-SIZE: 12pt">Sam Johnson announces foreclosure prevention workshop on Friday\, June 10th</SPAN></B><SPAN style="FONT-FAMILY: 'Arial'\,'sans-serif'\; COLOR: #333333\; FONT-SIZE: 12pt"><?xml:namespace prefix = o ns = "urn:schemas-microsoft-com:office:office" /><o:p></o:p></SPAN></P><TABLE style="mso-cellspacing: 0in\; mso-yfti-tbllook: 1184\; mso-table-lspace: 2.25pt\; mso-table-rspace: 2.25pt\; mso-table-anchor-vertical: paragraph\; mso-table-anchor-horizontal: column\; mso-table-left: right\; mso-table-top: middle\; mso-padding-alt: 0in 0in 0in 0in" class=MsoNormalTable border=0 cellSpacing=0 cellPadding=0 align=right><TBODY><TR style="mso-yfti-irow: 0\; mso-yfti-firstrow: yes"><TD style="BORDER-BOTTOM: #ece9d8\; BORDER-LEFT: #ece9d8\; PADDING-BOTTOM: 0in\; BACKGROUND-COLOR: transparent\; PADDING-LEFT: 0in\; PADDING-RIGHT: 0in\; BORDER-TOP: #ece9d8\; BORDER-RIGHT: #ece9d8\; PADDING-TOP: 0in"></TD></TR><TR style="mso-yfti-irow: 1\; mso-yfti-lastrow: yes"><TD style="BORDER-BOTTOM: #ece9d8\; BORDER-LEFT: #ece9d8\; PADDING-BOTTOM: 0in\; BACKGROUND-COLOR: transparent\; PADDING-LEFT: 0in\; PADDING-RIGHT: 0in\; BORDER-TOP: #ece9d8\; BORDER-RIGHT: #ece9d8\; PADDING-TOP: 0in"></TD></TR></TBODY></TABLE><P style="TEXT-ALIGN: justify\; MARGIN: 12pt 0in\; mso-line-height-alt: 9.75pt" class=MsoNormal><B><SPAN style="FONT-FAMILY: 'Cambria'\,'serif'\; FONT-SIZE: 12pt\; mso-bidi-font-family: Arial\; mso-ascii-theme-font: major-latin\; mso-hansi-theme-font: major-latin">Washington\, May 23rd </SPAN></B><SPAN style="FONT-FAMILY: 'Cambria'\,'serif'\; FONT-SIZE: 12pt\; mso-bidi-font-family: Arial\; mso-ascii-theme-font: major-latin\; mso-hansi-theme-font: major-latin">- <o:p></o:p></SPAN></P><P style="MARGIN: 12pt 0in\; mso-line-height-alt: 9.75pt" class=MsoNormal><SPAN style="FONT-FAMILY: 'Cambria'\,'serif'\; FONT-SIZE: 12pt\; mso-bidi-font-family: Arial\; mso-ascii-theme-font: major-latin\; mso-hansi-theme-font: major-latin"><FONT color=#000000>Today U.S. Congressman Sam Johnson (3<SUP>rd</SUP> Dist.-Texas) invited constituents to attend a free foreclosure prevention workshop in Dallas. The event takes place on Friday\, June 10<SUP>th</SUP> from 3 p.m. to 8 p.m. in Dallas at the Texas Agrilife Research and Extension Center located at 17360 Coit Road. The DFW Home Ownership Preservation Enterprise (DFW HOPE Partnership) will host the free foreclosure prevention seminar. Housing experts and credit counselors will join Johnson at the informative session. This is a come-and-go event for the purpose of allowing people to sit down with qualified counselors for one-on-one discussions. This event is free and open to the public and the press. <o:p></o:p></FONT></SPAN></P><P style="MARGIN: 12pt 0in\; mso-line-height-alt: 9.75pt" class=MsoNormal><SPAN style="FONT-FAMILY: 'Cambria'\,'serif'\; FONT-SIZE: 12pt\; mso-bidi-font-family: Arial\; mso-ascii-theme-font: major-latin\; mso-hansi-theme-font: major-latin"><FONT color=#000000>“If you are in a situation where you are facing foreclosure or having difficulty making your mortgage payment\, I encourage you attend this event\,” said Johnson. <o:p></o:p></FONT></SPAN></P><P style="MARGIN: 12pt 0in\; mso-line-height-alt: 9.75pt" class=MsoNormal><SPAN style="FONT-FAMILY: 'Cambria'\,'serif'\; FONT-SIZE: 12pt\; mso-bidi-font-family: Arial\; mso-ascii-theme-font: major-latin\; mso-hansi-theme-font: major-latin"><FONT color=#000000>Johnson represents portions of Dallas and Collin Counties. To learn more about this event\, contact the Congressman’s office in Richardson at 972-470-0892.<o:p></o:p></FONT></SPAN></P><P style="MARGIN: 0in 0in 0pt\; mso-line-height-alt: 9.75pt" class=MsoNormal><SPAN style="FONT-FAMILY: 'Cambria'\,'serif'\; FONT-SIZE: 12pt\; mso-bidi-font-family: Arial\; mso-ascii-theme-font: major-latin\; mso-hansi-theme-font: major-latin"><o:p><FONT color=#000000>&nbsp\;</FONT></o:p></SPAN></P><P style="MARGIN: 12pt 0in\; mso-line-height-alt: 9.75pt" class=MsoNormal><FONT color=#000000><B><U><SPAN style="FONT-FAMILY: 'Cambria'\,'serif'\; FONT-SIZE: 12pt\; mso-bidi-font-family: Arial\; mso-ascii-theme-font: major-latin\; mso-hansi-theme-font: major-latin">Friday\, June 10</SPAN></U></B><SPAN style="FONT-FAMILY: 'Cambria'\,'serif'\; FONT-SIZE: 12pt\; mso-bidi-font-family: Arial\; mso-ascii-theme-font: major-latin\; mso-hansi-theme-font: major-latin"><o:p></o:p></SPAN></FONT></P><P style="MARGIN: 12pt 0in\; mso-line-height-alt: 9.75pt" class=MsoNormal><SPAN style="FONT-FAMILY: 'Cambria'\,'serif'\; FONT-SIZE: 12pt\; mso-bidi-font-family: Arial\; mso-ascii-theme-font: major-latin\; mso-hansi-theme-font: major-latin"><FONT color=#000000>3 p.m. to 8 p.m.<o:p></o:p></FONT></SPAN></P><P style="MARGIN: 12pt 0in\; mso-line-height-alt: 9.75pt" class=MsoNormal><SPAN style="FONT-FAMILY: 'Cambria'\,'serif'\; FONT-SIZE: 12pt\; mso-bidi-font-family: Arial\; mso-ascii-theme-font: major-latin\; mso-hansi-theme-font: major-latin"><FONT color=#000000>FREE foreclosure prevention seminar<o:p></o:p></FONT></SPAN></P><P style="MARGIN: 12pt 0in\; mso-line-height-alt: 9.75pt" class=MsoNormal><SPAN style="FONT-FAMILY: 'Cambria'\,'serif'\; FONT-SIZE: 12pt\; mso-bidi-font-family: Arial\; mso-ascii-theme-font: major-latin\; mso-hansi-theme-font: major-latin"><FONT color=#000000>U.S. Congressman Sam Johnson<o:p></o:p></FONT></SPAN></P><P style="MARGIN: 12pt 0in\; mso-line-height-alt: 9.75pt" class=MsoNormal><SPAN style="FONT-FAMILY: 'Cambria'\,'serif'\; FONT-SIZE: 12pt\; mso-bidi-font-family: Arial\; mso-ascii-theme-font: major-latin\; mso-hansi-theme-font: major-latin"><FONT color=#000000>The Texas Agrilife Research and Extension Center<o:p></o:p></FONT></SPAN></P><P style="MARGIN: 12pt 0in\; mso-line-height-alt: 9.75pt" class=MsoNormal><SPAN style="FONT-FAMILY: 'Cambria'\,'serif'\; FONT-SIZE: 12pt\; mso-bidi-font-family: Arial\; mso-ascii-theme-font: major-latin\; mso-hansi-theme-font: major-latin"><FONT color=#000000>17360 Coit Road - Dallas\, TX<o:p></o:p></FONT></SPAN></P><P style="MARGIN: 0in 0in 0pt" class=MsoNormal><SPAN style="FONT-FAMILY: 'Cambria'\,'serif'\; FONT-SIZE: 12pt\; mso-ascii-theme-font: major-latin\; mso-hansi-theme-font: major-latin"><o:p><FONT color=#000000>&nbsp\;</FONT></o:p></SPAN></P></DIV>
LOCATION:The Texas Agrilife Research and Extension Center
UID:e.2096.932
SEQUENCE:3
DTSTAMP:20260422T162702Z
URL:https://network.garlandchamber.com/events/details/free-foreclosure-prevention-seminar-06-10-2011-932
END:VEVENT

END:VCALENDAR
