BEGIN:VCALENDAR
VERSION:2.0
PRODID:-//ChamberMaster//Event Calendar 2.0//EN
METHOD:PUBLISH
X-PUBLISHED-TTL:P3D
REFRESH-INTERVAL:P3D
CALSCALE:GREGORIAN
BEGIN:VEVENT
DTSTART:20120903T000000Z
DTEND:20120903T023000Z
X-MICROSOFT-CDO-ALLDAYEVENT:FALSE
SUMMARY:Free Outdoor Concert
DESCRIPTION:Galen Jeter's Dallas County Band performs free Labor Day concert at Christian Family Church See the Event Flyer
X-ALT-DESC;FMTTYPE=text/html:<DIV style="FONT-FAMILY: Arial">Galen Jeter's Dallas County Band performs free Labor Day concert at Christian Family Church</DIV><DIV style="FONT-FAMILY: Arial">&nbsp\;</DIV><DIV style="FONT-FAMILY: Arial"><A dataFld=0:0 href="http://www.garlandchamber.com/images/stories/chamber/Member%20Promotions/4%20up%20invite%202.jpg">See the Event Flyer</A></DIV>
LOCATION:Christian Family Church
UID:e.2096.1083
SEQUENCE:3
DTSTAMP:20260421T204608Z
URL:https://network.garlandchamber.com/events/details/free-outdoor-concert-09-02-2012-1083
END:VEVENT

END:VCALENDAR
