BEGIN:VCALENDAR
VERSION:2.0
PRODID:-//ChamberMaster//Event Calendar 2.0//EN
METHOD:PUBLISH
X-PUBLISHED-TTL:P3D
REFRESH-INTERVAL:P3D
CALSCALE:GREGORIAN
BEGIN:VEVENT
DTSTART:20080611T150000Z
DTEND:20080611T050000Z
X-MICROSOFT-CDO-ALLDAYEVENT:FALSE
SUMMARY:Furr's Fresh Buffet Ribbon Cutting Ceremony
DESCRIPTION:
X-ALT-DESC;FMTTYPE=text/html:
LOCATION:Furr's Fresh Buffet
UID:e.2096.546
SEQUENCE:3
DTSTAMP:20260424T183830Z
URL:https://network.garlandchamber.com/events/details/furr-s-fresh-buffet-ribbon-cutting-ceremony-06-11-2008-546
END:VEVENT

END:VCALENDAR
