BEGIN:VCALENDAR
VERSION:2.0
PRODID:-//ChamberMaster//Event Calendar 2.0//EN
METHOD:PUBLISH
X-PUBLISHED-TTL:P3D
REFRESH-INTERVAL:P3D
CALSCALE:GREGORIAN
BEGIN:VEVENT
DTSTART:20080809T140000Z
DTEND:20080809T190000Z
X-MICROSOFT-CDO-ALLDAYEVENT:FALSE
SUMMARY:G.I.S.D. Dropout Recovery Fair
DESCRIPTION:
X-ALT-DESC;FMTTYPE=text/html:
LOCATION:Special Events Center Ball Room
UID:e.2096.559
SEQUENCE:3
DTSTAMP:20260424T161323Z
URL:https://network.garlandchamber.com/events/details/g-i-s-d-dropout-recovery-fair-08-09-2008-559
END:VEVENT

END:VCALENDAR
