BEGIN:VCALENDAR
VERSION:2.0
PRODID:-//ChamberMaster//Event Calendar 2.0//EN
METHOD:PUBLISH
X-PUBLISHED-TTL:P3D
REFRESH-INTERVAL:P3D
CALSCALE:GREGORIAN
BEGIN:VEVENT
DTSTART:20131019T050000Z
DTEND:20131019T050000Z
X-MICROSOFT-CDO-ALLDAYEVENT:FALSE
SUMMARY:GAFHA HISPANIC HERITAGE BANQUET
DESCRIPTION:GAFHA HISPANIC HERITAGE BANQUET
X-ALT-DESC;FMTTYPE=text/html:GAFHA HISPANIC HERITAGE BANQUET
LOCATION:
UID:e.2096.2584
SEQUENCE:3
DTSTAMP:20260421T002739Z
URL:https://network.garlandchamber.com/events/details/gafha-hispanic-heritage-banquet-10-19-2013-2584
END:VEVENT

END:VCALENDAR
