BEGIN:VCALENDAR
VERSION:2.0
PRODID:-//ChamberMaster//Event Calendar 2.0//EN
METHOD:PUBLISH
X-PUBLISHED-TTL:P3D
REFRESH-INTERVAL:P3D
CALSCALE:GREGORIAN
BEGIN:VEVENT
DTSTART:20070131T150000Z
DTEND:20070209T220000Z
X-MICROSOFT-CDO-ALLDAYEVENT:FALSE
SUMMARY:Gallery 219 Presents: Not Just Paint
DESCRIPTION:Gallery 219 at Eastfield College presents: Not Just Paint: Randy Bacon\, Elizabeth Bisbing\, Paul Booker\, Sarah Maxwell-English\, and Jesse Meraz showing now through February 9. \n \nIn recent years thedefinition of paint has become as fluid as the medium itself\, adapting itself to each new idea.  This exhibition presents paint as a method\, a material\, and often both.  What is paint?  When do we call a work of art a painting?  What do we expect a painting to look like?  Pen and ink\, collage\, glitter and\, of course\, paint\, are among the materials used by these artists to evaluate a few of the myriad possibilities of paint and painting.  \n \nComplete artist statements can be found at http://www.eastfieldcollege.com/gallery219/Spring07/NotJustPaint.html \n \nGallery 219 is open Monday throughFriday from 9 a.m. - 4 p.m. and by appointment.  \n \nThe gallery is located on the main floor of the Fine Arts building (bldg "F").  More information is available at www.eastfieldcollege.com/gallery219 or by contacting David Willburn\, Gallery Director\, at 972-860-7162.
X-ALT-DESC;FMTTYPE=text/html:Gallery 219 at Eastfield College presents: Not Just Paint: Randy Bacon\, Elizabeth Bisbing\, Paul Booker\, Sarah Maxwell-English\, and Jesse Meraz showing now through February 9. \n \nIn recent years thedefinition of paint has become as fluid as the medium itself\, adapting itself to each new idea.  This exhibition presents paint as a method\, a material\, and often both.  What is paint?  When do we call a work of art a painting?  What do we expect a painting to look like?  Pen and ink\, collage\, glitter and\, of course\, paint\, are among the materials used by these artists to evaluate a few of the myriad possibilities of paint and painting.  \n \nComplete artist statements can be found at http://www.eastfieldcollege.com/gallery219/Spring07/NotJustPaint.html \n \nGallery 219 is open Monday throughFriday from 9 a.m. - 4 p.m. and by appointment.  \n \nThe gallery is located on the main floor of the Fine Arts building (bldg "F").  More information is available at www.eastfieldcollege.com/gallery219 or by contacting David Willburn\, Gallery Director\, at 972-860-7162.
LOCATION:Eastfield College
UID:e.2096.35
SEQUENCE:3
DTSTAMP:20260425T193412Z
URL:https://network.garlandchamber.com/events/details/gallery-219-presents-not-just-paint-01-31-2007-35
END:VEVENT

END:VCALENDAR
