BEGIN:VCALENDAR
VERSION:2.0
PRODID:-//ChamberMaster//Event Calendar 2.0//EN
METHOD:PUBLISH
X-PUBLISHED-TTL:P3D
REFRESH-INTERVAL:P3D
CALSCALE:GREGORIAN
BEGIN:VEVENT
DTSTART:20081025T150000Z
DTEND:20081025T220000Z
X-MICROSOFT-CDO-ALLDAYEVENT:FALSE
SUMMARY:Garland Downtown Business Association's Fall Into Fun Festiv
DESCRIPTION:
X-ALT-DESC;FMTTYPE=text/html:
LOCATION:Historic Downtown Garland
UID:e.2096.586
SEQUENCE:3
DTSTAMP:20260424T132422Z
URL:https://network.garlandchamber.com/events/details/garland-downtown-business-association-s-fall-into-fun-festiv-10-25-2008-586
END:VEVENT

END:VCALENDAR
