BEGIN:VCALENDAR
VERSION:2.0
PRODID:-//ChamberMaster//Event Calendar 2.0//EN
METHOD:PUBLISH
X-PUBLISHED-TTL:P3D
REFRESH-INTERVAL:P3D
CALSCALE:GREGORIAN
BEGIN:VEVENT
DTSTART:20091212T130000Z
DTEND:20091212T190000Z
X-MICROSOFT-CDO-ALLDAYEVENT:FALSE
SUMMARY:Garland Fire Department Pancakes with Santa
DESCRIPTION:Pancakes with Santa will be Saturday December 12th at Garland Central Fire Station 1019 Austin Street 7 AM to 1 P.M. Cost is $5.00 (all the pancakes you can eat)
X-ALT-DESC;FMTTYPE=text/html:<P><SPAN style="FONT-SIZE: 10pt\; FONT-FAMILY: 'Arial'\,'sans-serif'\; mso-fareast-font-family: Calibri\; mso-fareast-theme-font: minor-latin\; mso-ansi-language: EN-US\; mso-fareast-language: EN-US\; mso-bidi-language: AR-SA"><FONT size=3>Pancakes with Santa will be Saturday December 12<SUP>th</SUP> at Garland Central Fire Station </FONT></SPAN></P><P><SPAN style="FONT-SIZE: 10pt\; FONT-FAMILY: 'Arial'\,'sans-serif'\; mso-fareast-font-family: Calibri\; mso-fareast-theme-font: minor-latin\; mso-ansi-language: EN-US\; mso-fareast-language: EN-US\; mso-bidi-language: AR-SA"><FONT size=3>1019 Austin Street </FONT></SPAN></P><P><SPAN style="FONT-SIZE: 10pt\; FONT-FAMILY: 'Arial'\,'sans-serif'\; mso-fareast-font-family: Calibri\; mso-fareast-theme-font: minor-latin\; mso-ansi-language: EN-US\; mso-fareast-language: EN-US\; mso-bidi-language: AR-SA"><FONT size=3>7 AM to 1 P.M. </FONT></SPAN></P><P><SPAN style="FONT-SIZE: 10pt\; FONT-FAMILY: 'Arial'\,'sans-serif'\; mso-fareast-font-family: Calibri\; mso-fareast-theme-font: minor-latin\; mso-ansi-language: EN-US\; mso-fareast-language: EN-US\; mso-bidi-language: AR-SA"><FONT size=3>Cost is $5.00 (all the pancakes you can eat)</FONT> </SPAN></P>
LOCATION:Garland Garland Central Fire Station
UID:e.2096.728
SEQUENCE:3
DTSTAMP:20260423T181513Z
URL:https://network.garlandchamber.com/events/details/garland-fire-department-pancakes-with-santa-12-12-2009-728
END:VEVENT

END:VCALENDAR
