BEGIN:VCALENDAR
VERSION:2.0
PRODID:-//ChamberMaster//Event Calendar 2.0//EN
METHOD:PUBLISH
X-PUBLISHED-TTL:P3D
REFRESH-INTERVAL:P3D
CALSCALE:GREGORIAN
BEGIN:VEVENT
DTSTART:20080707T130000Z
DTEND:20080815T203000Z
X-MICROSOFT-CDO-ALLDAYEVENT:FALSE
SUMMARY:Garland Hosts Free Summer Lunch Program for Children
DESCRIPTION:
X-ALT-DESC;FMTTYPE=text/html:
LOCATION:
UID:e.2096.555
SEQUENCE:3
DTSTAMP:20260424T161221Z
URL:https://network.garlandchamber.com/events/details/garland-hosts-free-summer-lunch-program-for-children-07-07-2008-555
END:VEVENT

END:VCALENDAR
