BEGIN:VCALENDAR
VERSION:2.0
PRODID:-//ChamberMaster//Event Calendar 2.0//EN
METHOD:PUBLISH
X-PUBLISHED-TTL:P3D
REFRESH-INTERVAL:P3D
CALSCALE:GREGORIAN
BEGIN:VEVENT
DTSTART:20070419T210000Z
DTEND:20070419T230000Z
X-MICROSOFT-CDO-ALLDAYEVENT:FALSE
SUMMARY:Garland & Sachse Joint Networking Event
DESCRIPTION:
X-ALT-DESC;FMTTYPE=text/html:
LOCATION:
UID:e.2096.379
SEQUENCE:3
DTSTAMP:20260425T151344Z
URL:https://network.garlandchamber.com/events/details/garland-sachse-joint-networking-event-04-19-2007-379
END:VEVENT

END:VCALENDAR
