BEGIN:VCALENDAR
VERSION:2.0
PRODID:-//ChamberMaster//Event Calendar 2.0//EN
METHOD:PUBLISH
X-PUBLISHED-TTL:P3D
REFRESH-INTERVAL:P3D
CALSCALE:GREGORIAN
BEGIN:VEVENT
DTSTART:20110326T050000Z
DTEND:20110326T050000Z
X-MICROSOFT-CDO-ALLDAYEVENT:FALSE
SUMMARY:Garland Summer Musical Guild - A Homecoming 25 years of Roasting Rivalry
DESCRIPTION:Garland Summer Musical Guild - A Homecoming 25 years of Roasting Rivalry
X-ALT-DESC;FMTTYPE=text/html:Garland Summer Musical Guild - A Homecoming 25 years of Roasting Rivalry
LOCATION:The Atrium
UID:e.2096.2281
SEQUENCE:3
DTSTAMP:20260422T223522Z
URL:https://network.garlandchamber.com/events/details/garland-summer-musical-guild-a-homecoming-25-years-of-roasting-rivalry-03-26-2011-2281
END:VEVENT

END:VCALENDAR
