BEGIN:VCALENDAR
VERSION:2.0
PRODID:-//ChamberMaster//Event Calendar 2.0//EN
METHOD:PUBLISH
X-PUBLISHED-TTL:P3D
REFRESH-INTERVAL:P3D
CALSCALE:GREGORIAN
BEGIN:VEVENT
DTSTART:20090314T180000Z
DTEND:20090314T210000Z
X-MICROSOFT-CDO-ALLDAYEVENT:FALSE
SUMMARY:Garland Summer Musicals Shamrock Shenanigans Bowl-A-Thon
DESCRIPTION:
X-ALT-DESC;FMTTYPE=text/html:
LOCATION:Plano Super Bowl
UID:e.2096.627
SEQUENCE:3
DTSTAMP:20260424T064822Z
URL:https://network.garlandchamber.com/events/details/garland-summer-musicals-shamrock-shenanigans-bowl-a-thon-03-14-2009-627
END:VEVENT

END:VCALENDAR
