BEGIN:VCALENDAR
VERSION:2.0
PRODID:-//ChamberMaster//Event Calendar 2.0//EN
METHOD:PUBLISH
X-PUBLISHED-TTL:P3D
REFRESH-INTERVAL:P3D
CALSCALE:GREGORIAN
BEGIN:VEVENT
DTSTART:20080708T140000Z
DTEND:20080708T170000Z
X-MICROSOFT-CDO-ALLDAYEVENT:FALSE
SUMMARY:Garland Workforce Center Job Fair - GISD Bus Drivers & Aides
DESCRIPTION:
X-ALT-DESC;FMTTYPE=text/html:
LOCATION:Garland Workforce Center
UID:e.2096.552
SEQUENCE:3
DTSTAMP:20260424T184108Z
URL:https://network.garlandchamber.com/events/details/garland-workforce-center-job-fair-gisd-bus-drivers-aides-07-08-2008-552
END:VEVENT

END:VCALENDAR
