BEGIN:VCALENDAR
VERSION:2.0
PRODID:-//ChamberMaster//Event Calendar 2.0//EN
METHOD:PUBLISH
X-PUBLISHED-TTL:P3D
REFRESH-INTERVAL:P3D
CALSCALE:GREGORIAN
BEGIN:VEVENT
DTSTART:20090120T060000Z
DTEND:20090120T060000Z
X-MICROSOFT-CDO-ALLDAYEVENT:FALSE
SUMMARY:GEDP Appreciation Lunch
DESCRIPTION:GEDP Appreciation Lunch
X-ALT-DESC;FMTTYPE=text/html:GEDP Appreciation Lunch
LOCATION:Texas Roadhouse
UID:e.2096.1931
SEQUENCE:3
DTSTAMP:20260424T105122Z
URL:https://network.garlandchamber.com/events/details/gedp-appreciation-lunch-01-20-2009-1931
END:VEVENT

END:VCALENDAR
