BEGIN:VCALENDAR
VERSION:2.0
PRODID:-//ChamberMaster//Event Calendar 2.0//EN
METHOD:PUBLISH
X-PUBLISHED-TTL:P3D
REFRESH-INTERVAL:P3D
CALSCALE:GREGORIAN
BEGIN:VEVENT
DTSTART:20100209T060000Z
DTEND:20100209T060000Z
X-MICROSOFT-CDO-ALLDAYEVENT:FALSE
SUMMARY:GEDP Lunch 02/10
DESCRIPTION:GEDP Lunch 02/10
X-ALT-DESC;FMTTYPE=text/html:GEDP Lunch 02/10
LOCATION:Texas Roadhouse
UID:e.2096.2095
SEQUENCE:3
DTSTAMP:20260423T163708Z
URL:https://network.garlandchamber.com/events/details/gedp-lunch-02-10-02-09-2010-2095
END:VEVENT

END:VCALENDAR
