BEGIN:VCALENDAR
VERSION:2.0
PRODID:-//ChamberMaster//Event Calendar 2.0//EN
METHOD:PUBLISH
X-PUBLISHED-TTL:P3D
REFRESH-INTERVAL:P3D
CALSCALE:GREGORIAN
BEGIN:VEVENT
DTSTART:20090527T163000Z
DTEND:20090527T180000Z
X-MICROSOFT-CDO-ALLDAYEVENT:FALSE
SUMMARY:GEDP Lunch
DESCRIPTION:
X-ALT-DESC;FMTTYPE=text/html:
LOCATION:The Gallery @ Richland College Garland Campus
UID:e.2096.793
SEQUENCE:3
DTSTAMP:20260424T035838Z
URL:https://network.garlandchamber.com/events/details/gedp-lunch-05-27-2009-793
END:VEVENT

END:VCALENDAR
