BEGIN:VCALENDAR
VERSION:2.0
PRODID:-//ChamberMaster//Event Calendar 2.0//EN
METHOD:PUBLISH
X-PUBLISHED-TTL:P3D
REFRESH-INTERVAL:P3D
CALSCALE:GREGORIAN
BEGIN:VEVENT
DTSTART:20090916T050000Z
DTEND:20090916T050000Z
X-MICROSOFT-CDO-ALLDAYEVENT:FALSE
SUMMARY:GEDP Lunch 09/09
DESCRIPTION:GEDP Lunch 09/09
X-ALT-DESC;FMTTYPE=text/html:GEDP Lunch 09/09
LOCATION:Garland Chamber
UID:e.2096.2049
SEQUENCE:3
DTSTAMP:20260423T220915Z
URL:https://network.garlandchamber.com/events/details/gedp-lunch-09-09-09-16-2009-2049
END:VEVENT

END:VCALENDAR
