BEGIN:VCALENDAR
VERSION:2.0
PRODID:-//ChamberMaster//Event Calendar 2.0//EN
METHOD:PUBLISH
X-PUBLISHED-TTL:P3D
REFRESH-INTERVAL:P3D
CALSCALE:GREGORIAN
BEGIN:VEVENT
DTSTART:20120214T060000Z
DTEND:20120214T060000Z
X-MICROSOFT-CDO-ALLDAYEVENT:FALSE
SUMMARY:GEDP Luncheon
DESCRIPTION:GEDP Luncheon
X-ALT-DESC;FMTTYPE=text/html:GEDP Luncheon
LOCATION:Richland College Garland Campus Gallery
UID:e.2096.2379
SEQUENCE:3
DTSTAMP:20260422T051530Z
URL:https://network.garlandchamber.com/events/details/gedp-luncheon-02-14-2012-2379
END:VEVENT

END:VCALENDAR
