BEGIN:VCALENDAR
VERSION:2.0
PRODID:-//ChamberMaster//Event Calendar 2.0//EN
METHOD:PUBLISH
X-PUBLISHED-TTL:P3D
REFRESH-INTERVAL:P3D
CALSCALE:GREGORIAN
BEGIN:VEVENT
DTSTART:20120515T170000Z
DTEND:20120515T183000Z
X-MICROSOFT-CDO-ALLDAYEVENT:FALSE
SUMMARY:GEDP Luncheon
DESCRIPTION:
X-ALT-DESC;FMTTYPE=text/html:
LOCATION:Richland College Garland Campus Gallery
UID:e.2096.1026
SEQUENCE:3
DTSTAMP:20260422T022931Z
URL:https://network.garlandchamber.com/events/details/gedp-luncheon-05-15-2012-1026
END:VEVENT

END:VCALENDAR
