BEGIN:VCALENDAR
VERSION:2.0
PRODID:-//ChamberMaster//Event Calendar 2.0//EN
METHOD:PUBLISH
X-PUBLISHED-TTL:P3D
REFRESH-INTERVAL:P3D
CALSCALE:GREGORIAN
BEGIN:VEVENT
DTSTART:20061017T163000Z
DTEND:20061017T180000Z
X-MICROSOFT-CDO-ALLDAYEVENT:FALSE
SUMMARY:GEDP Luncheon 10/06
DESCRIPTION:The Garland Economic Development PartnershipOctober Luncheon Notice Speakers: Brian Glaser - President\, Dallas Commercial Retail Division\, the Weitzman GroupChris Clark - Vice President\, Development\, Cencor Realty ServicesTopic: DFW & Garland Retail Market OverviewSpeaker: Dr. Bob Day\, Mayor\, City of GarlandTopic: Renewal in South Garland - Centerville MarketplaceWhen: Tuesday\, October 17\, 11:30 am – 1:00 pm Place: GISD Special Events Center\, 4999 Naaman Forest Blvd (Near intersection of N. Garland Ave. & Hwy 190)Cost: Non-GEDP Private Investors $15 per person: Cash\, Check or Credit Card (VISA or MasterCard)GEDP Private Investors No Charge with 2 person limit\, $15 per person extraCity Council\, Plan Commissioners\, GISD Board & Chamber Board Members No ChargeFor more information or to RSVP by Thursday\, October 12th\, please contact Dawn Summers at 469-326-7448 or dawn.summers@garlandchamber.com
X-ALT-DESC;FMTTYPE=text/html:<FONT size=2><P align=center></FONT><FONT face="Trebuchet MS" size=5><STRONG>The Garland Economic Development Partnership</STRONG></FONT></P><P align=center><FONT face="Trebuchet MS" size=5><STRONG>October Luncheon Notice</STRONG></P></FONT><FONT face="Trebuchet MS" size=1><P><STRONG></STRONG>&nbsp\;</P></FONT><FONT face="Trebuchet MS" size=4><P><STRONG>Speakers: Brian Glaser - President\, Dallas Commercial Retail Division\, the Weitzman Group</STRONG></P></FONT><FONT face="Trebuchet MS" size=1></FONT><FONT face="Trebuchet MS" size=4><P><STRONG>Chris Clark - Vice President\, Development\, Cencor Realty Services</STRONG></P></FONT><FONT face="Trebuchet MS" size=1></FONT><FONT face="Trebuchet MS" size=4><P><STRONG>Topic: DFW &amp\; Garland Retail Market Overview</STRONG></P></FONT><P><FONT face="Trebuchet MS" size=4><STRONG>Speaker: Dr. Bob Day\, Mayor\, City of Garland</STRONG></P></FONT><FONT face="Trebuchet MS" size=1></FONT><FONT face="Trebuchet MS" size=4><P><STRONG>Topic: Renewal in South Garland - Centerville Marketplace</STRONG></P></FONT><FONT face="Trebuchet MS" size=1><P></FONT><FONT face="Trebuchet MS" size=4><STRONG>When: Tuesday\, October 17\, 11:30 am – 1:00 pm </STRONG></P></FONT><FONT face="Trebuchet MS" size=1></FONT><FONT face="Trebuchet MS" size=4><P><STRONG>Place: GISD Special Events Center\, 4999 Naaman Forest Blvd (Near intersection of N. Garland Ave. &amp\; Hwy 190)</STRONG></P><P></FONT><FONT face="Trebuchet MS" size=4>Cost: Non-GEDP Private Investors $15 per person: Cash\, Check or Credit Card (VISA or MasterCard)</FONT></P><P><FONT face="Trebuchet MS" size=4>GEDP Private Investors No Charge with 2 person limit\, $15 per person extra</FONT></P><P><FONT face="Trebuchet MS" size=4>City Council\, Plan Commissioners\, GISD Board &amp\; Chamber Board Members No Charge</FONT></P><P><FONT face="Trebuchet MS" size=4>For more information or to </FONT><FONT face="Trebuchet MS" color=#ff0000 size=4>RSVP by Thursday\, October 12th</FONT><FONT face="Trebuchet MS" size=4>\, please contact Dawn Summers at 469-326-7448 or </FONT><U><FONT face="Trebuchet MS" color=#0000ff size=4>dawn.summers@garlandchamber.com</P></U></FONT>
LOCATION:GISD Special Events Center
UID:e.2096.326
SEQUENCE:3
DTSTAMP:20260426T014548Z
URL:https://network.garlandchamber.com/events/details/gedp-luncheon-10-06-10-17-2006-326
END:VEVENT

END:VCALENDAR
