BEGIN:VCALENDAR
VERSION:2.0
PRODID:-//ChamberMaster//Event Calendar 2.0//EN
METHOD:PUBLISH
X-PUBLISHED-TTL:P3D
REFRESH-INTERVAL:P3D
CALSCALE:GREGORIAN
BEGIN:VEVENT
DTSTART:20101214T223000Z
DTEND:20101215T010000Z
X-MICROSOFT-CDO-ALLDAYEVENT:FALSE
SUMMARY:Get Warmed Up for the Holiday Season
DESCRIPTION:
X-ALT-DESC;FMTTYPE=text/html:
LOCATION:D'Vine Wine - Firewheel Town Center
UID:e.2096.857
SEQUENCE:3
DTSTAMP:20260423T011233Z
URL:https://network.garlandchamber.com/events/details/get-warmed-up-for-the-holiday-season-12-14-2010-857
END:VEVENT

END:VCALENDAR
