BEGIN:VCALENDAR
VERSION:2.0
PRODID:-//ChamberMaster//Event Calendar 2.0//EN
METHOD:PUBLISH
X-PUBLISHED-TTL:P3D
REFRESH-INTERVAL:P3D
CALSCALE:GREGORIAN
BEGIN:VEVENT
DTSTART:20140923T160000Z
DTEND:20140923T170000Z
X-MICROSOFT-CDO-ALLDAYEVENT:FALSE
SUMMARY:Google Workshop: Build Your Free Website
DESCRIPTION:
X-ALT-DESC;FMTTYPE=text/html:
LOCATION:
UID:e.2096.2760
SEQUENCE:3
DTSTAMP:20260420T074854Z
URL:https://network.garlandchamber.com/events/details/google-workshop-build-your-free-website-09-23-2014-2760
END:VEVENT

END:VCALENDAR
