BEGIN:VCALENDAR
VERSION:2.0
PRODID:-//ChamberMaster//Event Calendar 2.0//EN
METHOD:PUBLISH
X-PUBLISHED-TTL:P3D
REFRESH-INTERVAL:P3D
CALSCALE:GREGORIAN
BEGIN:VEVENT
DTSTART:20140916T160000Z
DTEND:20140916T170000Z
X-MICROSOFT-CDO-ALLDAYEVENT:FALSE
SUMMARY:Google Workshop: Get Found on Search\, Maps and Google+
DESCRIPTION:
X-ALT-DESC;FMTTYPE=text/html:
LOCATION:
UID:e.2096.2759
SEQUENCE:3
DTSTAMP:20260420T074753Z
URL:https://network.garlandchamber.com/events/details/google-workshop-get-found-on-search-maps-and-google-09-16-2014-2759
END:VEVENT

END:VCALENDAR
