BEGIN:VCALENDAR
VERSION:2.0
PRODID:-//ChamberMaster//Event Calendar 2.0//EN
METHOD:PUBLISH
X-PUBLISHED-TTL:P3D
REFRESH-INTERVAL:P3D
CALSCALE:GREGORIAN
BEGIN:VEVENT
DTSTART:20150820T140000Z
DTEND:20150820T150000Z
X-MICROSOFT-CDO-ALLDAYEVENT:FALSE
SUMMARY:Google Workshop: Measure Success with Website Analytics
DESCRIPTION:As part of the Let's Put Garland on the Map initiative\, this live video workshop is designed to help businesses measure their website traffic\, understand their customers and improve their online business. Join us to learn how to set measurement goals that are right for your business and learn how to use data to make better business decisions. Directly following the Google Hangout presentation\, we'll be hosting a text-based Q&A where a Chamber staff member can type in questions on behalf of workshop attendees. Google representatives will respond immediately with answers.
X-ALT-DESC;FMTTYPE=text/html:<span style="font-size:12px\;"><span style="font-family:arial\;"><span style="color: rgb(67\, 65\, 66)\; line-height: 24px\;">As part of the Let&#39\;s Put Garland on the Map initiative\, this live video workshop is designed to help businesses measure their website traffic\, understand their customers and improve their online business. Join us to learn how to set measurement goals that are right for your business and learn how to use data to make better business decisions. Directly following the Google Hangout presentation\, we&#39\;ll be hosting a text-based Q&amp\;A where a Chamber staff member can type in questions on behalf of workshop attendees. Google representatives will respond immediately with answers.</span></span></span>
LOCATION:Garland Chamber of Commerce\, Conference Room A
UID:e.2096.2809
SEQUENCE:3
DTSTAMP:20260419T160451Z
URL:https://network.garlandchamber.com/events/details/google-workshop-measure-success-with-website-analytics-08-20-2015-2809
END:VEVENT

END:VCALENDAR
