BEGIN:VCALENDAR
VERSION:2.0
PRODID:-//ChamberMaster//Event Calendar 2.0//EN
METHOD:PUBLISH
X-PUBLISHED-TTL:P3D
REFRESH-INTERVAL:P3D
CALSCALE:GREGORIAN
BEGIN:VEVENT
DTSTART:20101105T160000Z
DTEND:20101105T180000Z
X-MICROSOFT-CDO-ALLDAYEVENT:FALSE
SUMMARY:Grand Opening of the Urban Community Garden Coalition
DESCRIPTION:
X-ALT-DESC;FMTTYPE=text/html:
LOCATION:Southeast Dallas Health Center
UID:e.2096.608
SEQUENCE:3
DTSTAMP:20260423T023953Z
URL:https://network.garlandchamber.com/events/details/grand-opening-of-the-urban-community-garden-coalition-11-05-2010-608
END:VEVENT

END:VCALENDAR
