BEGIN:VCALENDAR
VERSION:2.0
PRODID:-//ChamberMaster//Event Calendar 2.0//EN
METHOD:PUBLISH
X-PUBLISHED-TTL:P3D
REFRESH-INTERVAL:P3D
CALSCALE:GREGORIAN
BEGIN:VEVENT
DTSTART:20120706T153000Z
DTEND:20120706T193000Z
X-MICROSOFT-CDO-ALLDAYEVENT:FALSE
SUMMARY:Great American Give - Blood Drive
DESCRIPTION:Get Blue Bell in July! The summer just got sweeter! When you give blood in July\, you get a gift certificate for a FREE pint of Blue Bell ice cream! You'll also be entered to win other sweet rewards\, like a bed & breakfast getaway in Brenham & Sweet Seats at a Texas Rangers game. One lucky donor will receive a year's supply of good ol' Blue Bell! For details\, go to www.greatamericangive.com.  For additional information\, see the event flyer.
X-ALT-DESC;FMTTYPE=text/html:<DIV style="FONT-FAMILY: Arial">Get Blue Bell in July!</DIV><DIV style="FONT-FAMILY: Arial">&nbsp\;</DIV><DIV style="FONT-FAMILY: Arial">The summer just got sweeter! When you give blood in July\, you get a gift certificate for a FREE pint of Blue Bell ice cream! You'll also be entered to win other sweet rewards\, like a bed &amp\; breakfast getaway in Brenham &amp\; Sweet Seats at a Texas Rangers game. One lucky donor will receive a year's supply of good ol' Blue Bell! For details\, go to <A href="http://www.greatamericangive.com">www.greatamericangive.com</A>. </DIV><DIV style="FONT-FAMILY: Arial">&nbsp\;</DIV><DIV style="FONT-FAMILY: Arial">For additional information\, <A dataFld=0:0 href="http://www.garlandchamber.com/images/stories/chamber/Member%20Promotions/Carter%20BloodCare%20Blood%20Drive.pdf">see the event flyer</A>.</DIV>
LOCATION:Pleasant Valley Healthcare & Rehabilitation Center
UID:e.2096.1061
SEQUENCE:3
DTSTAMP:20260421T220824Z
URL:https://network.garlandchamber.com/events/details/great-american-give-blood-drive-07-06-2012-1061
END:VEVENT

END:VCALENDAR
