BEGIN:VCALENDAR
VERSION:2.0
PRODID:-//ChamberMaster//Event Calendar 2.0//EN
METHOD:PUBLISH
X-PUBLISHED-TTL:P3D
REFRESH-INTERVAL:P3D
CALSCALE:GREGORIAN
BEGIN:VEVENT
DTSTART:20120519T130000Z
DTEND:20120519T230000Z
X-MICROSOFT-CDO-ALLDAYEVENT:FALSE
SUMMARY:Groom & Sons' One-Day STIHL Sale
DESCRIPTION:Join us at Groom & Sons' on Saturday\, May 19\, 2012 for a one-day sale and save 10% on any STIHL item. STIHL representative Randy Smithwick will perform product demonstrations and answer questions from 10 a.m. to 2 p.m. For the best price you'll see all year long\, don't miss the Groom & Sons' one-day sale. For more information\, see the event flyer.
X-ALT-DESC;FMTTYPE=text/html:<DIV style="FONT-FAMILY: Arial">Join us at Groom &amp\; Sons' on Saturday\, May 19\, 2012 for a one-day sale and save 10% on any STIHL item. STIHL representative Randy Smithwick will perform product demonstrations and answer questions from 10 a.m. to 2 p.m.</DIV><DIV style="FONT-FAMILY: Arial">&nbsp\;</DIV><DIV style="FONT-FAMILY: Arial">For the best price you'll see all year long\, don't miss the Groom &amp\; Sons' one-day sale.</DIV><DIV style="FONT-FAMILY: Arial">&nbsp\;</DIV><DIV style="FONT-FAMILY: Arial">For more information\, <A dataFld=0:0 href="http://www.garlandchamber.com/images/stories/chamber/Stihl_event.jpg">see the event flyer</A>.</DIV><DIV style="FONT-FAMILY: Arial"><EM></EM>&nbsp\;</DIV>
LOCATION:Groom & Son's Hardware & Lumber\, Inc.
UID:e.2096.1040
SEQUENCE:3
DTSTAMP:20260422T010618Z
URL:https://network.garlandchamber.com/events/details/groom-sons-one-day-stihl-sale-05-19-2012-1040
END:VEVENT

END:VCALENDAR
