BEGIN:VCALENDAR
VERSION:2.0
PRODID:-//ChamberMaster//Event Calendar 2.0//EN
METHOD:PUBLISH
X-PUBLISHED-TTL:P3D
REFRESH-INTERVAL:P3D
CALSCALE:GREGORIAN
BEGIN:VEVENT
DTSTART:20120505T150000Z
DTEND:20120505T190000Z
X-MICROSOFT-CDO-ALLDAYEVENT:FALSE
SUMMARY:Groom & Sons' Weber Demonstration
DESCRIPTION:You're Invited! Saturday\, May 5\, 2012 from 10 a.m. to 2 p.m.\, Groom & Son's will host Weber Grill representative Tom Heermans to perform product demondstrations and answer questions. Come sample the good taste of Weber at Groom & Sons'. Weber GrillsA Good Choice for Good Taste
X-ALT-DESC;FMTTYPE=text/html:<DIV style="FONT-FAMILY: Arial">You're Invited!</DIV><DIV style="FONT-FAMILY: Arial">&nbsp\;</DIV><DIV style="FONT-FAMILY: Arial">Saturday\, May 5\, 2012 from 10 a.m. to 2 p.m.\, Groom &amp\; Son's will host Weber Grill representative Tom Heermans to perform product demondstrations and answer questions.</DIV><DIV style="FONT-FAMILY: Arial">&nbsp\;</DIV><DIV style="FONT-FAMILY: Arial">Come sample the good taste of Weber at Groom &amp\; Sons'.</DIV><DIV style="FONT-FAMILY: Arial">&nbsp\;</DIV><DIV style="FONT-FAMILY: Arial"><EM>Weber Grills</EM></DIV><DIV style="FONT-FAMILY: Arial"><EM>A Good Choice for Good Taste</EM></DIV><DIV style="FONT-FAMILY: Arial"><EM></EM>&nbsp\;</DIV><DIV style="FONT-FAMILY: Arial"><EM></EM>&nbsp\;</DIV>
LOCATION:Groom & Son's Hardware & Lumber\, Inc.
UID:e.2096.1028
SEQUENCE:3
DTSTAMP:20260422T010320Z
URL:https://network.garlandchamber.com/events/details/groom-sons-weber-demonstration-05-05-2012-1028
END:VEVENT

END:VCALENDAR
