BEGIN:VCALENDAR
VERSION:2.0
PRODID:-//ChamberMaster//Event Calendar 2.0//EN
METHOD:PUBLISH
X-PUBLISHED-TTL:P3D
REFRESH-INTERVAL:P3D
CALSCALE:GREGORIAN
BEGIN:VEVENT
DTSTART:20080828T190000Z
DTEND:20080828T220000Z
X-MICROSOFT-CDO-ALLDAYEVENT:FALSE
SUMMARY:H & R Block Associates Volunteer Time for Needy
DESCRIPTION:“The only way to get your stimulus payment this year is to file a tax return this year\,” said Amy McAnarney\, executive director of The Tax Institute at H&R Block. “The good news is thousands of dollars are available for some filers who aren’t required to report income but will this year to get theireconomic stimulus money.”
X-ALT-DESC;FMTTYPE=text/html:“The only way to get your stimulus payment this year is to file a tax return this year\,” said Amy McAnarney\, executive director of The Tax Institute at H&R Block. “The good news is thousands of dollars are available for some filers who aren’t required to report income but will this year to get theireconomic stimulus money.”
LOCATION:Gloria Dei Lutheran Church
UID:e.2096.21
SEQUENCE:3
DTSTAMP:20260424T161553Z
URL:https://network.garlandchamber.com/events/details/h-r-block-associates-volunteer-time-for-needy-08-28-2008-21
END:VEVENT

END:VCALENDAR
