BEGIN:VCALENDAR
VERSION:2.0
PRODID:-//ChamberMaster//Event Calendar 2.0//EN
METHOD:PUBLISH
X-PUBLISHED-TTL:P3D
REFRESH-INTERVAL:P3D
CALSCALE:GREGORIAN
BEGIN:VEVENT
DTSTART:20100715T050000Z
DTEND:20100717T050000Z
X-MICROSOFT-CDO-ALLDAYEVENT:FALSE
SUMMARY:Habitat for Humanity Family Selection Meetings
DESCRIPTION:
X-ALT-DESC;FMTTYPE=text/html:
LOCATION:Sweet Home Missionary Baptist Church
UID:e.2096.807
SEQUENCE:3
DTSTAMP:20260423T081500Z
URL:https://network.garlandchamber.com/events/details/habitat-for-humanity-family-selection-meetings-07-15-2010-807
END:VEVENT

END:VCALENDAR
