BEGIN:VCALENDAR
VERSION:2.0
PRODID:-//ChamberMaster//Event Calendar 2.0//EN
METHOD:PUBLISH
X-PUBLISHED-TTL:P3D
REFRESH-INTERVAL:P3D
CALSCALE:GREGORIAN
BEGIN:VEVENT
DTSTART:20110204T170000Z
DTEND:20110205T050000Z
X-MICROSOFT-CDO-ALLDAYEVENT:FALSE
SUMMARY:Habitat for Humanity Super Build XLV - Sponsor: Chili's
DESCRIPTION:
X-ALT-DESC;FMTTYPE=text/html:
LOCATION:Chili's Bar & Grill
UID:e.2096.408
SEQUENCE:3
DTSTAMP:20260422T223235Z
URL:https://network.garlandchamber.com/events/details/habitat-for-humanity-super-build-xlv-sponsor-chili-s-02-04-2011-408
END:VEVENT

END:VCALENDAR
